View In:
ArcGIS JavaScript
ArcGIS Online Map Viewer
ArcGIS Earth
ArcMap
View Footprint In:
ArcGIS Online Map Viewer
Service Description: Orthophotos/MNT_Ortho2020_Elevation
Name: Orthophotos/MNT_Ortho2020_Elevation
Description:
Single Fused Map Cache: false
Extent:
XMin: 163097.2276170757
YMin: 5072511.340011516
XMax: 230613.76265480174
YMax: 5132829.818007925
Spatial Reference: 0
(0)
LatestVCSWkid(0)
Initial Extent:
XMin: 163097.2276170757
YMin: 5072511.340011516
XMax: 230613.76265480174
YMax: 5132829.818007925
Spatial Reference: 0
(0)
LatestVCSWkid(0)
Full Extent:
XMin: 163097.2276170757
YMin: 5072511.340011516
XMax: 230613.76265480174
YMax: 5132829.818007925
Spatial Reference: 0
(0)
LatestVCSWkid(0)
Pixel Size X: 2.00001584921281
Pixel Size Y: 2.0000158492128035
Band Count: 1
Pixel Type: S16
RasterFunction Infos: {"rasterFunctionInfos": [{
"name": "None",
"description": "",
"help": ""
}]}
Mensuration Capabilities: Basic
Has Histograms: false
Has Colormap: false
Has Multi Dimensions : false
Rendering Rule:
Min Scale: 0
Max Scale: 0
Copyright Text:
Service Data Type: esriImageServiceDataTypeGeneric
Min Values: N/A
Max Values: N/A
Mean Values: N/A
Standard Deviation Values: N/A
Object ID Field:
Fields:
None
Default Mosaic Method: Center
Allowed Mosaic Methods:
SortField:
SortValue: null
Mosaic Operator: First
Default Compression Quality: 75
Default Resampling Method: Bilinear
Max Record Count: null
Max Image Height: 4100
Max Image Width: 15000
Max Download Image Count: null
Max Mosaic Image Count: null
Allow Raster Function: true
Allow Copy: true
Allow Analysis: true
Allow Compute TiePoints: false
Supports Statistics: false
Supports Advanced Queries: false
Use StandardizedQueries: true
Raster Type Infos:
Name: Raster Dataset
Description: Prend en charge tous les jeux de données raster ArcGIS
Help:
Has Raster Attribute Table: false
Edit Fields Info: null
Ownership Based AccessControl For Rasters: null
Child Resources:
Info
Statistics
Key Properties
Legend
Raster Function Infos
Supported Operations:
Export Image
Identify
Measure
Compute Histograms
Compute Statistics Histograms
Get Samples
Compute Class Statistics
Query Boundary
Compute Pixel Location
Compute Angles
Validate
Project